BEGIN:VCALENDAR
VERSION:2.0
PRODID:-//Vox Aevi - ECPv6.15.20//NONSGML v1.0//EN
CALSCALE:GREGORIAN
METHOD:PUBLISH
X-WR-CALNAME:Vox Aevi
X-ORIGINAL-URL:https://voxaevi.com
X-WR-CALDESC:Veranstaltungen für Vox Aevi
REFRESH-INTERVAL;VALUE=DURATION:PT1H
X-Robots-Tag:noindex
X-PUBLISHED-TTL:PT1H
BEGIN:VTIMEZONE
TZID:Europe/Berlin
BEGIN:DAYLIGHT
TZOFFSETFROM:+0100
TZOFFSETTO:+0200
TZNAME:CEST
DTSTART:20250330T010000
END:DAYLIGHT
BEGIN:STANDARD
TZOFFSETFROM:+0200
TZOFFSETTO:+0100
TZNAME:CET
DTSTART:20251026T010000
END:STANDARD
BEGIN:DAYLIGHT
TZOFFSETFROM:+0100
TZOFFSETTO:+0200
TZNAME:CEST
DTSTART:20260329T010000
END:DAYLIGHT
BEGIN:STANDARD
TZOFFSETFROM:+0200
TZOFFSETTO:+0100
TZNAME:CET
DTSTART:20261025T010000
END:STANDARD
BEGIN:DAYLIGHT
TZOFFSETFROM:+0100
TZOFFSETTO:+0200
TZNAME:CEST
DTSTART:20270328T010000
END:DAYLIGHT
BEGIN:STANDARD
TZOFFSETFROM:+0200
TZOFFSETTO:+0100
TZNAME:CET
DTSTART:20271031T010000
END:STANDARD
END:VTIMEZONE
BEGIN:VEVENT
DTSTART;TZID=Europe/Berlin:20260621T150000
DTEND;TZID=Europe/Berlin:20260621T160000
DTSTAMP:20260419T193403
CREATED:20260305T212736Z
LAST-MODIFIED:20260306T110726Z
UID:156-1782054000-1782057600@voxaevi.com
SUMMARY:Auftritt im Rahmen des Rundgangs "Built to Break. Architektur für Alle" (6)
DESCRIPTION:Das internationale Performance-Kollektiv BOYS* IN SYNC arbeitet mit der Heilig Kreuz Kirche am Bornheimer Hang und dem Frankfurter Vokalensemble Vox Aevi zusammen. In der Recherche greifen die Künstler:innen nicht nur auf Bücherwissen zurück: Über Straßenbefragungen vor Ort wollen sie wissen: Wie erleben die Bewohner:innen ihren Stadtraum? Welche Möglichkeiten und Probleme gibt die Architektur vor? Wo treffen sich die Menschen? Für Bewohner:innen und WDC-Gäste werden Deutsch- und Englischsprachige Führungen angeboten. \n\n\n\nDer Spaziergang beginnt\, und endet mit einem Chor\, an der Heilig Kreuz Kirche.
URL:https://voxaevi.com/event/auftritt-im-rahmen-des-rundgangs-built-to-break-architektur-fuer-alle-6/
LOCATION:Heilig-Kreuz-Kirche\, Kettelerallee 45\, Frankfurt am Main\, Germany
END:VEVENT
BEGIN:VEVENT
DTSTART;TZID=Europe/Berlin:20260621T170000
DTEND;TZID=Europe/Berlin:20260621T180000
DTSTAMP:20260419T193403
CREATED:20260305T212938Z
LAST-MODIFIED:20260306T110754Z
UID:158-1782061200-1782064800@voxaevi.com
SUMMARY:Auftritt im Rahmen des Rundgangs "Built to Break. Architektur für Alle" (7)
DESCRIPTION:Das internationale Performance-Kollektiv BOYS* IN SYNC arbeitet mit der Heilig Kreuz Kirche am Bornheimer Hang und dem Frankfurter Vokalensemble Vox Aevi zusammen. In der Recherche greifen die Künstler:innen nicht nur auf Bücherwissen zurück: Über Straßenbefragungen vor Ort wollen sie wissen: Wie erleben die Bewohner:innen ihren Stadtraum? Welche Möglichkeiten und Probleme gibt die Architektur vor? Wo treffen sich die Menschen? Für Bewohner:innen und WDC-Gäste werden Deutsch- und Englischsprachige Führungen angeboten. \n\n\n\nDer Spaziergang beginnt\, und endet mit einem Chor\, an der Heilig Kreuz Kirche.
URL:https://voxaevi.com/event/auftritt-im-rahmen-des-rundgangs-built-to-break-architektur-fuer-alle-7/
LOCATION:Heilig-Kreuz-Kirche\, Kettelerallee 45\, Frankfurt am Main\, Germany
END:VEVENT
BEGIN:VEVENT
DTSTART;TZID=Europe/Berlin:20260621T190000
DTEND;TZID=Europe/Berlin:20260621T200000
DTSTAMP:20260419T193403
CREATED:20260305T213136Z
LAST-MODIFIED:20260306T110821Z
UID:160-1782068400-1782072000@voxaevi.com
SUMMARY:Auftritt im Rahmen des Rundgangs "Built to Break. Architektur für Alle" (8)
DESCRIPTION:Das internationale Performance-Kollektiv BOYS* IN SYNC arbeitet mit der Heilig Kreuz Kirche am Bornheimer Hang und dem Frankfurter Vokalensemble Vox Aevi zusammen. In der Recherche greifen die Künstler:innen nicht nur auf Bücherwissen zurück: Über Straßenbefragungen vor Ort wollen sie wissen: Wie erleben die Bewohner:innen ihren Stadtraum? Welche Möglichkeiten und Probleme gibt die Architektur vor? Wo treffen sich die Menschen? Für Bewohner:innen und WDC-Gäste werden Deutsch- und Englischsprachige Führungen angeboten. \n\n\n\nDer Spaziergang beginnt\, und endet mit einem Chor\, an der Heilig Kreuz Kirche.
URL:https://voxaevi.com/event/auftritt-im-rahmen-des-rundgangs-built-to-break-architektur-fuer-alle-8/
LOCATION:Heilig-Kreuz-Kirche\, Kettelerallee 45\, Frankfurt am Main\, Germany
END:VEVENT
END:VCALENDAR